BEGIN:VCALENDAR
PRODID:-//github.com/rianjs/ical.net//NONSGML ical.net 4.0//EN
VERSION:2.0
BEGIN:VEVENT
CLASS:PUBLIC
DESCRIPTION:16 ноября VK tech проводит масштабную осеннюю VK Kubernetes Co
 nf.Уже много лет VK Kubernetes Conf объединяет K8s-сообщество\, чтобы обс
 удить\, что происходит вокруг Kubernetes.На конференции будут обсуждаться
  актуальные темы применения оркестратора и его компонентов:как обеспечива
 ть безопасность Kubernetes-проектов: исследование матрицы угроз для конте
 йнеров\;как доставлять логи в K8s\, обеспечивать единый контроль доступа\
 , контроль деплоя в кластер и харденинг нагрузок\;какие нетривиальные спо
 собы настройки кластера позволяют оптимизировать стоимость обслуживания с
 истем с K8s\;как Kubernetes повлиял на индустрию и как технология будет р
 азвиваться дальше.Среди спикеров митапа &mdash\; эксперты из Тинькофф\, Ф
 лант\, Wildberries\, Luntry\, VK и другие.Место проведения: Офис VK в Мос
 кве и онлайн. Формат участия можно выбрать при регистрации.По вопросам\, 
 связанным с решениями VK tech: vk@mont.ru.\nhttp://www.mont.ru/ru-ru/even
 ts/7390
DTEND:20231116T200000
DTSTAMP:20260422T133142Z
DTSTART:20231116T140000
LOCATION:Москва\, Ленинградский проспект\, 39\, стр. 79
SEQUENCE:0
SUMMARY:VK Kubernetes Conf
UID:22596c51-0cb6-4d8f-8338-347a127fc3c9
URL:http://www.mont.ru/ru-ru/events/7390
END:VEVENT
END:VCALENDAR
