BEGIN:VCALENDAR
PRODID:-//github.com/rianjs/ical.net//NONSGML ical.net 4.0//EN
VERSION:2.0
BEGIN:VEVENT
CLASS:PUBLIC
DESCRIPTION:Приглашаем вас принять участие в конференции от компании R-Vis
 ion: R-EVOlution Conf23!Приняв участие в конференции\, вы получите возмож
 ность:Увидеть презентацию новых компонентов экосистемы R-Vision EVOИзучит
 ь реальные кейсы использования технологий заказчикамПолучить ответы на вс
 е интересующие вас вопросыТакже на конференции вас ждет нетворкинг и нефо
 рмальное общениеСпикеры:Александр Бондаренко\, генеральный директор\, R-V
 isionИгорь Сметанев\, директор по стратегическому развитию\, R-VisionИван
  Чувилин\, руководитель отдела поддержки продаж\, R-VisionГригорий Ревенк
 о\, директор центра экспертизы\, R-VisionПо вопросам\, связанным с решени
 ями R-Vision: InformSecurity@mont.ru.\nhttp://www.mont.ru/ru-ru/education
 /7321
DTEND:20230928T183000
DTSTAMP:20260421T111103Z
DTSTART:20230928T110000
SEQUENCE:0
SUMMARY:R-Vision: R-EVOlution Conf23
UID:4e85e64c-fe6a-44da-afe8-e8e6c7d5e672
URL:http://www.mont.ru/ru-ru/education/7321
END:VEVENT
END:VCALENDAR
