BEGIN:VCALENDAR
PRODID:-//github.com/rianjs/ical.net//NONSGML ical.net 4.0//EN
VERSION:2.0
BEGIN:VEVENT
CLASS:PUBLIC
DESCRIPTION:11&nbsp\;апреля &laquo\;Код Безопасности&raquo\; проводит трад
 иционный весенний технический семинар о продуктах компании.Образовательно
 е мероприятие пройдёт в дистанционном формате и будет интересно техническ
 им специалистам и инженерам\, работающим с продуктами в области информаци
 онной безопасности.Во время семинара будет работать чат с экспертами\, в 
 котором можно задать интересующие вопросы. Это уникальная возможность поо
 бщаться напрямую с архитекторами и разработчиками ИБ-решений\, чтобы доне
 сти собственную точку зрения на дальнейшее развитие продуктов.Ждем вас на
  мероприятии!\nhttp://www.mont.ru/ru-ru/education/7098
DTEND:20230411T150000
DTSTAMP:20260421T130231Z
DTSTART:20230411T110000
SEQUENCE:0
SUMMARY:Обзор практик использования продуктов «Кода Безопасности»
UID:5f4b2c57-8005-44be-8883-c3aede95bd8e
URL:http://www.mont.ru/ru-ru/education/7098
END:VEVENT
END:VCALENDAR
